BEGIN:VCALENDAR
VERSION:2.0
PRODID:-//cSPACE Eau Claire - ECPv6.15.20//NONSGML v1.0//EN
CALSCALE:GREGORIAN
METHOD:PUBLISH
X-WR-CALNAME:cSPACE Eau Claire
X-ORIGINAL-URL:https://eau-claire.cspaceprojects.com
X-WR-CALDESC:Events for cSPACE Eau Claire
REFRESH-INTERVAL;VALUE=DURATION:PT1H
X-Robots-Tag:noindex
X-PUBLISHED-TTL:PT1H
BEGIN:VTIMEZONE
TZID:UTC
BEGIN:STANDARD
TZOFFSETFROM:+0000
TZOFFSETTO:+0000
TZNAME:UTC
DTSTART:20220101T000000
END:STANDARD
END:VTIMEZONE
BEGIN:VEVENT
DTSTART;TZID=UTC:20231006T163000
DTEND;TZID=UTC:20231006T213000
DTSTAMP:20260423T041832
CREATED:20230808T193738Z
LAST-MODIFIED:20231005T162054Z
UID:13755-1696609800-1696627800@eau-claire.cspaceprojects.com
SUMMARY:Dark Recess Open House with Karolina Gajewska
DESCRIPTION:Experience a fully immersive art installation designed to stimulate and evoke emotional responses common to horror themes. An element of this will include a large format horror inspired silk screened installation by printmaker Karolina Gajewska. \nDark Recess is a multi-faceted arts installation\, dialog incubator and arts residency that unveils the emotions of loss\, grief\, pain\, fear\, darkness and trauma and how they are expressed culturally through art and various film horror genres. Inspired by the month of October and the resurrection of things arguably left better to dead\, we’ll peel back the layers of which we express Dark Recess.
URL:https://eau-claire.cspaceprojects.com/events/dark-recess-open-house-with-karolina-gajewska/
LOCATION:cSPACE Eau Claire Neighbourhood Hub\, 381 2 Avenue Southwest\, Calgary\, AB\, T2P 0C5\, Canada
CATEGORIES:Artist Talk,cSPACE Eau Claire Neighbourhood Hub,Event,Open Studio,Residency,Workshop
ATTACH;FMTTYPE=image/jpeg:https://eau-claire.cspaceprojects.com/wp-content/uploads/2023/08/medusas-mirror-11x17-rev1-scaled.jpg
END:VEVENT
BEGIN:VEVENT
DTSTART;TZID=UTC:20231014T150000
DTEND;TZID=UTC:20231014T170000
DTSTAMP:20260423T041832
CREATED:20230809T182749Z
LAST-MODIFIED:20230809T182949Z
UID:13787-1697295600-1697302800@eau-claire.cspaceprojects.com
SUMMARY:Pumpkin Competition @ Dark Recesses with Karolina Gajewska
DESCRIPTION:A good ol’ pumpkin carving competition in celebration of all things Halloween! Prizes!\nDark Recess is a multi-faceted arts installation\, dialog incubator and arts residency that unveils the emotions of loss\, grief\, pain\, fear\, darkness and trauma and how they are expressed culturally through art and various film horror genres. Inspired by the month of October and the resurrection of things arguably left better to dead\, we’ll peal back the layers of which we express Dark Recess. \nIt is important to come together and discuss and express the dark recesses of our own minds and experiences and relate to one another to begin to heal and face those fears and traumas to begin to heal. Honoring and facing our darkness allows us also to honor and face the light.
URL:https://eau-claire.cspaceprojects.com/events/pumpkin-competition-dark-recesses-with-karolina-gajewska/
LOCATION:cSPACE Eau Claire Neighbourhood Hub\, 381 2 Avenue Southwest\, Calgary\, AB\, T2P 0C5\, Canada
CATEGORIES:cSPACE Eau Claire Neighbourhood Hub,Event,Residency,Workshop
ATTACH;FMTTYPE=image/jpeg:https://eau-claire.cspaceprojects.com/wp-content/uploads/2023/08/pumpkin.jpg
END:VEVENT
END:VCALENDAR