BEGIN:VCALENDAR
VERSION:2.0
PRODID:-//cSPACE Eau Claire - ECPv6.15.20//NONSGML v1.0//EN
CALSCALE:GREGORIAN
METHOD:PUBLISH
X-WR-CALNAME:cSPACE Eau Claire
X-ORIGINAL-URL:https://eau-claire.cspaceprojects.com
X-WR-CALDESC:Events for cSPACE Eau Claire
REFRESH-INTERVAL;VALUE=DURATION:PT1H
X-Robots-Tag:noindex
X-PUBLISHED-TTL:PT1H
BEGIN:VTIMEZONE
TZID:UTC
BEGIN:STANDARD
TZOFFSETFROM:+0000
TZOFFSETTO:+0000
TZNAME:UTC
DTSTART:20220101T000000
END:STANDARD
END:VTIMEZONE
BEGIN:VEVENT
DTSTART;TZID=UTC:20230403T190000
DTEND;TZID=UTC:20230403T210000
DTSTAMP:20260419T210525
CREATED:20230328T182126Z
LAST-MODIFIED:20230329T232057Z
UID:12986-1680548400-1680555600@eau-claire.cspaceprojects.com
SUMMARY:The Oratory Launch
DESCRIPTION:The Oratory Inaugural Launch: Connected to the Cosmos with Becka Mutate\nThink SNL\, meets your favourite talk show\, sprinkled with experiential learning; welcome to The Oratory! This live and online interactive talk show invites you to spectate\, participate and create all in the name of healing through the arts\, play\, and storytelling. Every week we learn\, meet someone and try something anew. In our inaugural week\, we meet Becka the astrologist who shares about the stars\, how we’re all connected and what that means for you on your own journey! \nTickets $5
URL:https://eau-claire.cspaceprojects.com/events/the-oratory-launch/
LOCATION:cSPACE Eau Claire\, 381 2 Ave SW\, Calgary\, Alberta\, T2P 5E9\, Canada
CATEGORIES:Event
ATTACH;FMTTYPE=image/jpeg:https://eau-claire.cspaceprojects.com/wp-content/uploads/2023/03/the-oratory-main-promo-ig-square-final-final.jpg
END:VEVENT
BEGIN:VEVENT
DTSTART;TZID=UTC:20230407T190000
DTEND;TZID=UTC:20230407T210000
DTSTAMP:20260419T210525
CREATED:20230405T235748Z
LAST-MODIFIED:20230405T235748Z
UID:13030-1680894000-1680901200@eau-claire.cspaceprojects.com
SUMMARY:The Oratory: Weekly Recap
DESCRIPTION:Join us every Friday as we check-in and recap what we learned and embodied throughout the week. How did practicing your new tool go? Sharing (with others) is caring (to yourself)! \n$5
URL:https://eau-claire.cspaceprojects.com/events/the-oratory-weekly-recap/
LOCATION:cSPACE Eau Claire\, 381 2 Ave SW\, Calgary\, Alberta\, T2P 5E9\, Canada
CATEGORIES:Event
ATTACH;FMTTYPE=image/jpeg:https://eau-claire.cspaceprojects.com/wp-content/uploads/2023/03/the-oratory-main-promo-ig-square-final-final.jpg
END:VEVENT
BEGIN:VEVENT
DTSTART;TZID=UTC:20230407T190000
DTEND;TZID=UTC:20230407T210000
DTSTAMP:20260419T210525
CREATED:20230405T235748Z
LAST-MODIFIED:20230405T235748Z
UID:13030-1680894000-1680901200@eau-claire.cspaceprojects.com
SUMMARY:The Oratory: Weekly Recap
DESCRIPTION:Join us every Friday as we check-in and recap what we learned and embodied throughout the week. How did practicing your new tool go? Sharing (with others) is caring (to yourself)! \n$5
URL:https://eau-claire.cspaceprojects.com/events/the-oratory-weekly-recap/
LOCATION:cSPACE Eau Claire\, 381 2 Ave SW\, Calgary\, Alberta\, T2P 5E9\, Canada
CATEGORIES:Event
ATTACH;FMTTYPE=image/jpeg:https://eau-claire.cspaceprojects.com/wp-content/uploads/2023/03/the-oratory-main-promo-ig-square-final-final.jpg
END:VEVENT
BEGIN:VEVENT
DTSTART;TZID=UTC:20230407T190000
DTEND;TZID=UTC:20230407T210000
DTSTAMP:20260419T210525
CREATED:20230405T235748Z
LAST-MODIFIED:20230405T235748Z
UID:13030-1680894000-1680901200@eau-claire.cspaceprojects.com
SUMMARY:The Oratory: Weekly Recap
DESCRIPTION:Join us every Friday as we check-in and recap what we learned and embodied throughout the week. How did practicing your new tool go? Sharing (with others) is caring (to yourself)! \n$5
URL:https://eau-claire.cspaceprojects.com/events/the-oratory-weekly-recap/
LOCATION:cSPACE Eau Claire\, 381 2 Ave SW\, Calgary\, Alberta\, T2P 5E9\, Canada
CATEGORIES:Event
ATTACH;FMTTYPE=image/jpeg:https://eau-claire.cspaceprojects.com/wp-content/uploads/2023/03/the-oratory-main-promo-ig-square-final-final.jpg
END:VEVENT
BEGIN:VEVENT
DTSTART;TZID=UTC:20230407T190000
DTEND;TZID=UTC:20230407T210000
DTSTAMP:20260419T210525
CREATED:20230405T235748Z
LAST-MODIFIED:20230405T235748Z
UID:13030-1680894000-1680901200@eau-claire.cspaceprojects.com
SUMMARY:The Oratory: Weekly Recap
DESCRIPTION:Join us every Friday as we check-in and recap what we learned and embodied throughout the week. How did practicing your new tool go? Sharing (with others) is caring (to yourself)! \n$5
URL:https://eau-claire.cspaceprojects.com/events/the-oratory-weekly-recap/
LOCATION:cSPACE Eau Claire\, 381 2 Ave SW\, Calgary\, Alberta\, T2P 5E9\, Canada
CATEGORIES:Event
ATTACH;FMTTYPE=image/jpeg:https://eau-claire.cspaceprojects.com/wp-content/uploads/2023/03/the-oratory-main-promo-ig-square-final-final.jpg
END:VEVENT
BEGIN:VEVENT
DTSTART;TZID=UTC:20230430T180000
DTEND;TZID=UTC:20230430T230000
DTSTAMP:20260419T210525
CREATED:20230410T232508Z
LAST-MODIFIED:20230410T232719Z
UID:13044-1682877600-1682895600@eau-claire.cspaceprojects.com
SUMMARY:The Oratory: Full Recap Showcase
DESCRIPTION:Missed The Oratory experience? Here’s your chance to catch a full recap!\nEnjoy smooth sounds from Roby Misterdrums and the Key 30 Orchestra as they set the mood\, hear from all the facilitators from each week and stay for a DJ dance party to end the night. \n$5
URL:https://eau-claire.cspaceprojects.com/events/the-oratory-full-recap-showcase/
LOCATION:cSPACE Eau Claire\, 381 2 Ave SW\, Calgary\, Alberta\, T2P 5E9\, Canada
CATEGORIES:Event
ATTACH;FMTTYPE=image/jpeg:https://eau-claire.cspaceprojects.com/wp-content/uploads/2023/03/the-oratory-main-promo-ig-square-final-final.jpg
END:VEVENT
END:VCALENDAR