BEGIN:VCALENDAR
VERSION:2.0
PRODID:-//cSPACE Eau Claire - ECPv6.15.20//NONSGML v1.0//EN
CALSCALE:GREGORIAN
METHOD:PUBLISH
X-WR-CALNAME:cSPACE Eau Claire
X-ORIGINAL-URL:https://eau-claire.cspaceprojects.com
X-WR-CALDESC:Events for cSPACE Eau Claire
REFRESH-INTERVAL;VALUE=DURATION:PT1H
X-Robots-Tag:noindex
X-PUBLISHED-TTL:PT1H
BEGIN:VTIMEZONE
TZID:UTC
BEGIN:STANDARD
TZOFFSETFROM:+0000
TZOFFSETTO:+0000
TZNAME:UTC
DTSTART:20220101T000000
END:STANDARD
END:VTIMEZONE
BEGIN:VEVENT
DTSTART;TZID=UTC:20230601T120000
DTEND;TZID=UTC:20230601T140000
DTSTAMP:20260419T194415
CREATED:20230529T154136Z
LAST-MODIFIED:20230601T181053Z
UID:13172-1685620800-1685628000@eau-claire.cspaceprojects.com
SUMMARY:FREE FUNNY Thursdays
DESCRIPTION:23rd Annual FunnyFest Calgary Comedy Festival\nThursday\, JUNE 1 @ 12 pm \nFREE FUNNY Thursdays – Bring your lunch and laugh your butt off. \n(subject to change; see website)
URL:https://eau-claire.cspaceprojects.com/events/free-funny-thursdays/
LOCATION:cSPACE Eau Claire\, 381 2 Ave SW\, Calgary\, Alberta\, T2P 5E9\, Canada
CATEGORIES:cSPACE Eau Claire Neighbourhood Hub,Event
ATTACH;FMTTYPE=image/png:https://eau-claire.cspaceprojects.com/wp-content/uploads/2023/05/free-funny-thursday-june1-cspace-eau-claire-slider.png
END:VEVENT
BEGIN:VEVENT
DTSTART;TZID=UTC:20230602T140000
DTEND;TZID=UTC:20230602T160000
DTSTAMP:20260419T194415
CREATED:20230529T175224Z
LAST-MODIFIED:20230531T155803Z
UID:13184-1685714400-1685721600@eau-claire.cspaceprojects.com
SUMMARY:FUNNYFEST: Laugh & Learn: Secrets of Stand up Comedy Seminar
DESCRIPTION:Laugh & Learn\nUnlock the secrets of public speaking with a 23-year professional stand-up comedian. Learn valuable techniques and strategies to captivate your audience and deliver unforgettable presentations. Join us for this enlightening event!
URL:https://eau-claire.cspaceprojects.com/events/secrets-of-stand-up-comedy-seminar/
LOCATION:cSPACE Eau Claire Neighbourhood Hub\, 381 2 Avenue Southwest\, Calgary\, AB\, T2P 0C5\, Canada
CATEGORIES:Event
ATTACH;FMTTYPE=image/jpeg:https://eau-claire.cspaceprojects.com/wp-content/uploads/2023/05/funnyfest.jpg
END:VEVENT
BEGIN:VEVENT
DTSTART;TZID=UTC:20230603T150000
DTEND;TZID=UTC:20230603T170000
DTSTAMP:20260419T194415
CREATED:20230531T163022Z
LAST-MODIFIED:20230601T182415Z
UID:13252-1685804400-1685811600@eau-claire.cspaceprojects.com
SUMMARY:FUNNYFEST: Taste of the Fest
DESCRIPTION:Meet Comics and Laugh\nMeet the comics and laugh during a live show. Q & A about the comedy industry after the show. \nTickets and more info in the event link below.
URL:https://eau-claire.cspaceprojects.com/events/funnyfest-taste-of-the-fest/
LOCATION:cSPACE Eau Claire Neighbourhood Hub\, 381 2 Avenue Southwest\, Calgary\, AB\, T2P 0C5\, Canada
CATEGORIES:cSPACE Eau Claire Neighbourhood Hub,Event
ATTACH;FMTTYPE=image/jpeg:https://eau-claire.cspaceprojects.com/wp-content/uploads/2023/05/taste-of-the-fest-june3-cspace-eau-claire-instagram.jpg
END:VEVENT
BEGIN:VEVENT
DTSTART;TZID=UTC:20230604T190000
DTEND;TZID=UTC:20230604T210000
DTSTAMP:20260419T194415
CREATED:20230529T184925Z
LAST-MODIFIED:20230531T162545Z
UID:13192-1685905200-1685912400@eau-claire.cspaceprojects.com
SUMMARY:FUNNYFEST: Sunday of Funny at FunnyFest
DESCRIPTION:Experience an unmissable event: Sunday Funny\nPrepare for an unforgettable evening of laughter as top festival comedians deliver their best performances in a night of pure comedy bliss.
URL:https://eau-claire.cspaceprojects.com/events/sunday-of-funny-at-funnyfest/
LOCATION:cSPACE Eau Claire Neighbourhood Hub\, 381 2 Avenue Southwest\, Calgary\, AB\, T2P 0C5\, Canada
CATEGORIES:cSPACE Eau Claire Neighbourhood Hub,Event
ATTACH;FMTTYPE=image/jpeg:https://eau-claire.cspaceprojects.com/wp-content/uploads/2023/05/funnyfest.jpg
END:VEVENT
BEGIN:VEVENT
DTSTART;TZID=UTC:20230606T140000
DTEND;TZID=UTC:20230606T150000
DTSTAMP:20260419T194415
CREATED:20230529T203451Z
LAST-MODIFIED:20230601T182312Z
UID:13198-1686060000-1686063600@eau-claire.cspaceprojects.com
SUMMARY:Laugh and Learn at FUNNYFEST
DESCRIPTION:Learn Public Speaking Secrets from a 23 year professional stand up comedian PLUS enjoy a comedy performance by headline stand up comedians in the festival. \nCheck the Funny Fest website for more info and tickets.
URL:https://eau-claire.cspaceprojects.com/events/laugh-and-learn-at-funny-fest/
LOCATION:cSPACE Eau Claire Neighbourhood Hub\, 381 2 Avenue Southwest\, Calgary\, AB\, T2P 0C5\, Canada
CATEGORIES:cSPACE Eau Claire Neighbourhood Hub,Event
ATTACH;FMTTYPE=image/jpeg:https://eau-claire.cspaceprojects.com/wp-content/uploads/2023/05/laugh-and-learn-june6-cspace-eau-claire-instagram.jpg
END:VEVENT
BEGIN:VEVENT
DTSTART;TZID=UTC:20230607T120000
DTEND;TZID=UTC:20230607T130000
DTSTAMP:20260419T194415
CREATED:20230529T203002Z
LAST-MODIFIED:20230531T155647Z
UID:13200-1686139200-1686142800@eau-claire.cspaceprojects.com
SUMMARY:FUNNYFEST: Comedy Writing Seminar
DESCRIPTION:Unleash your comedic potential at our Comedy Writing Seminar!\nDiscover 20 proven comedy writing methods in just one hour\, honing your wit and leaving with the skills to create laughter-inducing content. \nCheck the Funny Fest website for more info and tickets.
URL:https://eau-claire.cspaceprojects.com/events/comedy-writing-seminar/
LOCATION:cSPACE Eau Claire Neighbourhood Hub\, 381 2 Avenue Southwest\, Calgary\, AB\, T2P 0C5\, Canada
CATEGORIES:cSPACE Eau Claire Neighbourhood Hub,Event
ATTACH;FMTTYPE=image/jpeg:https://eau-claire.cspaceprojects.com/wp-content/uploads/2023/05/funnyfest.jpg
END:VEVENT
BEGIN:VEVENT
DTSTART;TZID=UTC:20230608T120000
DTEND;TZID=UTC:20230608T130000
DTSTAMP:20260419T194415
CREATED:20230529T202725Z
LAST-MODIFIED:20230601T182130Z
UID:13202-1686225600-1686229200@eau-claire.cspaceprojects.com
SUMMARY:FUNNYFEST: Free Funny Thursdays at cSPACE Eau Claire
DESCRIPTION:FUNNYFEST presents Free Funny Thursdays\nBring your lunch and prepare for side-splitting laughter at Free Funny Thursdays! Join us for a delightful midday comedy event that will leave you laughing your butt off. Don’t miss out!
URL:https://eau-claire.cspaceprojects.com/events/free-funny-thursdays-at-cspace-eau-claire/
LOCATION:cSPACE Eau Claire Neighbourhood Hub\, 381 2 Avenue Southwest\, Calgary\, AB\, T2P 0C5\, Canada
CATEGORIES:cSPACE Eau Claire Neighbourhood Hub,Event
ATTACH;FMTTYPE=image/jpeg:https://eau-claire.cspaceprojects.com/wp-content/uploads/2023/05/free-funny-thursday-june8-cspace-eau-claire-instagram.jpg
END:VEVENT
BEGIN:VEVENT
DTSTART;TZID=UTC:20230609T160000
DTEND;TZID=UTC:20230609T170000
DTSTAMP:20260419T194415
CREATED:20230529T202356Z
LAST-MODIFIED:20230531T155846Z
UID:13204-1686326400-1686330000@eau-claire.cspaceprojects.com
SUMMARY:FUNNYFEST Happy Funny Hour
DESCRIPTION:Experience the ultimate laughter-filled Happy Funny Hour! Join us as headline comedians take the stage\, delivering hilarious performances that will leave you in stitches. Get ready for a joyful and entertaining Happy Funny Hour!
URL:https://eau-claire.cspaceprojects.com/events/happy-funny-hour/
LOCATION:cSPACE Eau Claire Neighbourhood Hub\, 381 2 Avenue Southwest\, Calgary\, AB\, T2P 0C5\, Canada
CATEGORIES:Event
ATTACH;FMTTYPE=image/jpeg:https://eau-claire.cspaceprojects.com/wp-content/uploads/2023/05/funnyfest.jpg
END:VEVENT
BEGIN:VEVENT
DTSTART;TZID=UTC:20230610T150000
DTEND;TZID=UTC:20230610T170000
DTSTAMP:20260419T194415
CREATED:20230529T201903Z
LAST-MODIFIED:20230601T182510Z
UID:13206-1686409200-1686416400@eau-claire.cspaceprojects.com
SUMMARY:FUNNYFEST Taste of the Fest: Kevin Farley
DESCRIPTION:Meet KEVIN FARLEY and Comics and Laugh\nMeet KEVIN FARLEY and other comics and learn what it takes to be a pro comedian. \nGain insights into the comedy industry with comic Kevin Farley at our exclusive Q&A session. Join us as Kevin and other comics shares their experiences\, anecdotes\, and valuable advice in this enlightening and entertaining event. \nTickets and more info in the event link below.
URL:https://eau-claire.cspaceprojects.com/events/taste-of-the-fest-meet-kevin-farley-and-comics-and-laugh/
LOCATION:cSPACE Eau Claire Neighbourhood Hub\, 381 2 Avenue Southwest\, Calgary\, AB\, T2P 0C5\, Canada
CATEGORIES:cSPACE Eau Claire Neighbourhood Hub,Event
ATTACH;FMTTYPE=image/jpeg:https://eau-claire.cspaceprojects.com/wp-content/uploads/2023/05/taste-of-the-fest-june10-cspace-eau-claire-instagram.jpg
END:VEVENT
BEGIN:VEVENT
DTSTART;TZID=UTC:20230611T190000
DTEND;TZID=UTC:20230611T200000
DTSTAMP:20260419T194415
CREATED:20230529T201333Z
LAST-MODIFIED:20230531T152333Z
UID:13208-1686510000-1686513600@eau-claire.cspaceprojects.com
SUMMARY:FUNNYFEST Festival Wrap Celebration Show
DESCRIPTION:Come and celebrate the end of Funny Fest with our Wrap-up Party! Join us for an evening of laughter as we bring together our talented comics for a lighthearted and joyous night of entertainment. \nVisit the event website for tickets and more info.
URL:https://eau-claire.cspaceprojects.com/events/festival-wrap-celebration-show/
LOCATION:cSPACE Eau Claire Neighbourhood Hub\, 381 2 Avenue Southwest\, Calgary\, AB\, T2P 0C5\, Canada
CATEGORIES:Event
ATTACH;FMTTYPE=image/jpeg:https://eau-claire.cspaceprojects.com/wp-content/uploads/2023/05/funnyfest.jpg
END:VEVENT
END:VCALENDAR