BEGIN:VCALENDAR
VERSION:2.0
PRODID:-//cSPACE Eau Claire - ECPv6.15.20//NONSGML v1.0//EN
CALSCALE:GREGORIAN
METHOD:PUBLISH
X-WR-CALNAME:cSPACE Eau Claire
X-ORIGINAL-URL:https://eau-claire.cspaceprojects.com
X-WR-CALDESC:Events for cSPACE Eau Claire
REFRESH-INTERVAL;VALUE=DURATION:PT1H
X-Robots-Tag:noindex
X-PUBLISHED-TTL:PT1H
BEGIN:VTIMEZONE
TZID:UTC
BEGIN:STANDARD
TZOFFSETFROM:+0000
TZOFFSETTO:+0000
TZNAME:UTC
DTSTART:20220101T000000
END:STANDARD
END:VTIMEZONE
BEGIN:VEVENT
DTSTART;TZID=UTC:20230701T133000
DTEND;TZID=UTC:20230701T160000
DTSTAMP:20260420T014937
CREATED:20230626T223024Z
LAST-MODIFIED:20230627T173917Z
UID:13424-1688218200-1688227200@eau-claire.cspaceprojects.com
SUMMARY:Canada Day: Reflections from Stories of Exclusion
DESCRIPTION:On July 1\, join us for a Lion Dance by the Jing Wo Cultural Association starting at 1:30 outside the cSpace Eau Claire Neighbourhood Hub. Then\, welcome the Stories of Exclusion artists for a discussion facilitated by Brian Wong from 2-4:30 inside the Hub. \nThe Stories of Exclusion project sheds light on how Chinese Calgarians and their families have been affected by the Chinese Immigration Act\, which was passed 100 years ago on Dominion Day (now known as Canada Day). Also referred to as the Chinese Exclusion Act\, this racist legislation essentially prohibited Chinese immigration to Canada. July 1 1923 was labelled Humiliation Day by the Chinese Canadian community. \nProject leader Dale Lee Kwong and six other artists have spent a week witnessing interviews with community members about their Stories of Exclusion. On Canada Day\, these artists will share their responses to these stories. This is an alternative celebration which acknowledges the intergenerational trauma caused by colonialism. \nThe Stories of Exclusion team includes: \nDale Lee Kwong (project lead + artist)\nCosmo Christoffersen (project manager)\nVic Ip (archivist + marketing coordinator)\nBrian Wong (facilitator + translator)\nBilly Kairan Guo (artist)\nKari Woo(artist)\nLinda Kee (artist)\nMichelle Kuku (artist)\nNick Wang (artist)\nYan Zhu (artist) \nStories of Exclusion is generously funded by the City of Calgary.
URL:https://eau-claire.cspaceprojects.com/events/canada-day-reflections-from-stories-of-exclusion/
LOCATION:cSPACE Eau Claire Neighbourhood Hub\, 381 2 Avenue Southwest\, Calgary\, AB\, T2P 0C5\, Canada
CATEGORIES:Artist Talk,cSPACE Eau Claire Neighbourhood Hub,Event
ATTACH;FMTTYPE=image/jpeg:https://eau-claire.cspaceprojects.com/wp-content/uploads/2023/06/image-1-final.jpg
ORGANIZER;CN="Dale Lee Kwong":MAILTO:dale.kwong@shaw.ca
END:VEVENT
BEGIN:VEVENT
DTSTART;TZID=UTC:20230701T170000
DTEND;TZID=UTC:20230701T233000
DTSTAMP:20260420T014937
CREATED:20230629T223956Z
LAST-MODIFIED:20230630T211349Z
UID:13483-1688230800-1688254200@eau-claire.cspaceprojects.com
SUMMARY:THE BREAK THRU
DESCRIPTION:Celebrate Canada Day in a unique way! Witness the electrifying showdown of Calgary’s finest bboys and bgirls as they battle it out for a $500 cash prize in an adrenaline-fueled breaking competition\, showcasing unparalleled talent and jaw-dropping moves. Featuring sounds by DJ Playtime and judged by local favourites Rhythm Rhy and Igni.
URL:https://eau-claire.cspaceprojects.com/events/the-break-thru/
LOCATION:cSPACE Eau Claire Neighbourhood Hub\, 381 2 Avenue Southwest\, Calgary\, AB\, T2P 0C5\, Canada
CATEGORIES:Event
ATTACH;FMTTYPE=image/jpeg:https://eau-claire.cspaceprojects.com/wp-content/uploads/2023/06/img_6433.jpeg
END:VEVENT
BEGIN:VEVENT
DTSTART;TZID=UTC:20230707T160000
DTEND;TZID=UTC:20230707T230000
DTSTAMP:20260420T014937
CREATED:20230630T154353Z
LAST-MODIFIED:20230630T160357Z
UID:13476-1688745600-1688770800@eau-claire.cspaceprojects.com
SUMMARY:Songwriting Open House with Astral Swans
DESCRIPTION:Watch a diversity of songwriting collaborations unfold before your eyes and ears in real time! with Astral Swans!
URL:https://eau-claire.cspaceprojects.com/events/songwriting-open-house-with-astral-swans/
LOCATION:cSPACE Eau Claire\, 381 2 Ave SW\, Calgary\, Alberta\, T2P 5E9\, Canada
CATEGORIES:Event,Open Studio
ATTACH;FMTTYPE=image/jpeg:https://eau-claire.cspaceprojects.com/wp-content/uploads/2023/06/open-house.jpg
ORGANIZER;CN="Astral Swans":MAILTO:astralswans@gmail.com
END:VEVENT
BEGIN:VEVENT
DTSTART;TZID=UTC:20230707T160000
DTEND;TZID=UTC:20230707T230000
DTSTAMP:20260420T014937
CREATED:20230630T154353Z
LAST-MODIFIED:20230630T160357Z
UID:13476-1688745600-1688770800@eau-claire.cspaceprojects.com
SUMMARY:Songwriting Open House with Astral Swans
DESCRIPTION:Watch a diversity of songwriting collaborations unfold before your eyes and ears in real time! with Astral Swans!
URL:https://eau-claire.cspaceprojects.com/events/songwriting-open-house-with-astral-swans/
LOCATION:cSPACE Eau Claire\, 381 2 Ave SW\, Calgary\, Alberta\, T2P 5E9\, Canada
CATEGORIES:Event,Open Studio
ATTACH;FMTTYPE=image/jpeg:https://eau-claire.cspaceprojects.com/wp-content/uploads/2023/06/open-house.jpg
ORGANIZER;CN="Astral Swans":MAILTO:astralswans@gmail.com
END:VEVENT
BEGIN:VEVENT
DTSTART;TZID=UTC:20230707T160000
DTEND;TZID=UTC:20230707T230000
DTSTAMP:20260420T014937
CREATED:20230630T154353Z
LAST-MODIFIED:20230630T160357Z
UID:13476-1688745600-1688770800@eau-claire.cspaceprojects.com
SUMMARY:Songwriting Open House with Astral Swans
DESCRIPTION:Watch a diversity of songwriting collaborations unfold before your eyes and ears in real time! with Astral Swans!
URL:https://eau-claire.cspaceprojects.com/events/songwriting-open-house-with-astral-swans/
LOCATION:cSPACE Eau Claire\, 381 2 Ave SW\, Calgary\, Alberta\, T2P 5E9\, Canada
CATEGORIES:Event,Open Studio
ATTACH;FMTTYPE=image/jpeg:https://eau-claire.cspaceprojects.com/wp-content/uploads/2023/06/open-house.jpg
ORGANIZER;CN="Astral Swans":MAILTO:astralswans@gmail.com
END:VEVENT
BEGIN:VEVENT
DTSTART;TZID=UTC:20230707T160000
DTEND;TZID=UTC:20230707T230000
DTSTAMP:20260420T014937
CREATED:20230630T154353Z
LAST-MODIFIED:20230630T160357Z
UID:13476-1688745600-1688770800@eau-claire.cspaceprojects.com
SUMMARY:Songwriting Open House with Astral Swans
DESCRIPTION:Watch a diversity of songwriting collaborations unfold before your eyes and ears in real time! with Astral Swans!
URL:https://eau-claire.cspaceprojects.com/events/songwriting-open-house-with-astral-swans/
LOCATION:cSPACE Eau Claire\, 381 2 Ave SW\, Calgary\, Alberta\, T2P 5E9\, Canada
CATEGORIES:Event,Open Studio
ATTACH;FMTTYPE=image/jpeg:https://eau-claire.cspaceprojects.com/wp-content/uploads/2023/06/open-house.jpg
ORGANIZER;CN="Astral Swans":MAILTO:astralswans@gmail.com
END:VEVENT
BEGIN:VEVENT
DTSTART;TZID=UTC:20230719T160000
DTEND;TZID=UTC:20230719T230000
DTSTAMP:20260420T014937
CREATED:20230713T163725Z
LAST-MODIFIED:20230713T163725Z
UID:13530-1689782400-1689807600@eau-claire.cspaceprojects.com
SUMMARY:SONGWRITING OPEN HOUSE WITH ASTRAL SWANS
DESCRIPTION:Watch a diversity of songwriting collaborations unfold before your eyes and ears in real time! with Astral Swans!
URL:https://eau-claire.cspaceprojects.com/events/songwriting-open-house-with-astral-swans-4/
LOCATION:cSPACE Eau Claire\, 381 2 Ave SW\, Calgary\, Alberta\, T2P 5E9\, Canada
CATEGORIES:cSPACE Eau Claire Neighbourhood Hub,Event,Musical Performance,Open Studio,Residency
ATTACH;FMTTYPE=image/jpeg:https://eau-claire.cspaceprojects.com/wp-content/uploads/2023/07/unnamed.jpg
END:VEVENT
BEGIN:VEVENT
DTSTART;TZID=UTC:20230720T160000
DTEND;TZID=UTC:20230720T230000
DTSTAMP:20260420T014937
CREATED:20230713T163826Z
LAST-MODIFIED:20230713T163835Z
UID:13533-1689868800-1689894000@eau-claire.cspaceprojects.com
SUMMARY:Songwriting Open House with Astral Swans
DESCRIPTION:Watch a diversity of songwriting collaborations unfold before your eyes and ears in real time! with Astral Swans!
URL:https://eau-claire.cspaceprojects.com/events/songwriting-open-house-with-astral-swans-5/
LOCATION:cSPACE Eau Claire\, 381 2 Ave SW\, Calgary\, Alberta\, T2P 5E9\, Canada
CATEGORIES:cSPACE Eau Claire Neighbourhood Hub,Event,Musical Performance,Open Studio,Residency,Workshop
ATTACH;FMTTYPE=image/jpeg:https://eau-claire.cspaceprojects.com/wp-content/uploads/2023/07/unnamed-1.jpg
END:VEVENT
BEGIN:VEVENT
DTSTART;TZID=UTC:20230721T160000
DTEND;TZID=UTC:20230721T230000
DTSTAMP:20260420T014937
CREATED:20230717T180709Z
LAST-MODIFIED:20230717T180709Z
UID:13536-1689955200-1689980400@eau-claire.cspaceprojects.com
SUMMARY:Songwriting Open House with Astral Swans
DESCRIPTION:Watch a diversity of songwriting collaborations unfold before your eyes and ears in real time! with Astral Swans!
URL:https://eau-claire.cspaceprojects.com/events/songwriting-open-house-with-astral-swans-6/
LOCATION:cSPACE Eau Claire\, 381 2 Ave SW\, Calgary\, Alberta\, T2P 5E9\, Canada
CATEGORIES:Artist Talk,cSPACE Eau Claire Neighbourhood Hub,Event,Musical Performance,Open Studio
ATTACH;FMTTYPE=image/jpeg:https://eau-claire.cspaceprojects.com/wp-content/uploads/2023/06/open-house.jpg
END:VEVENT
BEGIN:VEVENT
DTSTART;TZID=UTC:20230723T190000
DTEND;TZID=UTC:20230723T230000
DTSTAMP:20260420T014937
CREATED:20230629T192421Z
LAST-MODIFIED:20230630T160514Z
UID:13462-1690138800-1690153200@eau-claire.cspaceprojects.com
SUMMARY:Escape from the Stampede Secret Show
DESCRIPTION:An intimate concert hosted by Astral Swans featuring secret guests!
URL:https://eau-claire.cspaceprojects.com/events/escape-from-the-stampede-secret-show/
LOCATION:cSPACE Eau Claire\, 381 2 Ave SW\, Calgary\, Alberta\, T2P 5E9\, Canada
CATEGORIES:cSPACE Eau Claire Neighbourhood Hub,Event
ATTACH;FMTTYPE=image/jpeg:https://eau-claire.cspaceprojects.com/wp-content/uploads/2023/06/escape-from-stampede.jpg
ORGANIZER;CN="Astral Swans":MAILTO:astralswans@gmail.com
END:VEVENT
BEGIN:VEVENT
DTSTART;TZID=UTC:20230726T193000
DTEND;TZID=UTC:20230726T203000
DTSTAMP:20260420T014937
CREATED:20230628T203850Z
LAST-MODIFIED:20230725T195214Z
UID:13452-1690399800-1690403400@eau-claire.cspaceprojects.com
SUMMARY:Secret Concert with Matt Masters
DESCRIPTION:There is a secret concert\nFree to attend\, you can sign up in advance or just show up (limited seating).\nThe evening will be MC’d by Matt Masters\, but the artist performing is a secret. \nSign up to attend: info@mattmasters.ca \nCome to hear live music and enjoy the spontaneous nature of discovery.
URL:https://eau-claire.cspaceprojects.com/events/secret-concert-number-two/
LOCATION:cSPACE Eau Claire Neighbourhood Hub\, 381 2 Avenue Southwest\, Calgary\, AB\, T2P 0C5\, Canada
CATEGORIES:cSPACE Eau Claire Neighbourhood Hub,Event,Musical Performance
ATTACH;FMTTYPE=image/png:https://eau-claire.cspaceprojects.com/wp-content/uploads/2023/06/quiz-staff-1.png
END:VEVENT
END:VCALENDAR