BEGIN:VCALENDAR
VERSION:2.0
PRODID:-//cSPACE Eau Claire - ECPv6.15.20//NONSGML v1.0//EN
CALSCALE:GREGORIAN
METHOD:PUBLISH
X-WR-CALNAME:cSPACE Eau Claire
X-ORIGINAL-URL:https://eau-claire.cspaceprojects.com
X-WR-CALDESC:Events for cSPACE Eau Claire
REFRESH-INTERVAL;VALUE=DURATION:PT1H
X-Robots-Tag:noindex
X-PUBLISHED-TTL:PT1H
BEGIN:VTIMEZONE
TZID:UTC
BEGIN:STANDARD
TZOFFSETFROM:+0000
TZOFFSETTO:+0000
TZNAME:UTC
DTSTART:20220101T000000
END:STANDARD
END:VTIMEZONE
BEGIN:VEVENT
DTSTART;VALUE=DATE:20230206
DTEND;VALUE=DATE:20230211
DTSTAMP:20260419T162426
CREATED:20230203T002653Z
LAST-MODIFIED:20230203T002659Z
UID:9420-1675641600-1676073599@eau-claire.cspaceprojects.com
SUMMARY:Inception: February 6-10
DESCRIPTION:Presented by ThaBloc – an artist collective.  \nThaBloc collective explores the fear factors that inhibits them from full expression as creatives. Panel discussion and workshop using the reliable\, tested and trusted mirror technique. Read more about ThaBloc and its artists here.  \nExplore mini tours and open studios during the following times when these artists will be on site. \nFebruary 6\n11am-2pm — Winner Brave\n5:30-7pm —Patty Peixoto \nFebruary 7\n1pm-4pm — Samuel Obadero \nFebruary 8\n2pm-4pm — Maysoon\n5:30pm-7pm — Patty Peixoto \nFebruary 9\n1pm-3pm — Samuel Obadero\n5pm-9pm — Santosh Kumar Korthiwada \nFebruary 10\n10am-12pm — Winner\n1pm-4pm — Samuel Obadero \n  \nPhoto Description: Close ups of the faces of Samuel Obadero\, Winner Brave\, and Santosh Kumar Korthiwada. \n 
URL:https://eau-claire.cspaceprojects.com/events/inception-february-6-10-2/
LOCATION:cSPACE Eau Claire\, 381 2 Ave SW\, Calgary\, Alberta\, T2P 5E9\, Canada
CATEGORIES:Open Studio
ATTACH;FMTTYPE=image/jpeg:https://eau-claire.cspaceprojects.com/wp-content/uploads/2023/02/sam-winner-santosh-1.jpg
END:VEVENT
BEGIN:VEVENT
DTSTART;TZID=UTC:20230220T090000
DTEND;TZID=UTC:20230220T120000
DTSTAMP:20260419T162426
CREATED:20230216T222626Z
LAST-MODIFIED:20230216T223402Z
UID:9447-1676883600-1676894400@eau-claire.cspaceprojects.com
SUMMARY:Creative Intersections - Open Studio
DESCRIPTION:Violinist/composer James Watson and Dance Artist Jocelyn Mah join forces collaboratively for a week of exploration and creation at the cSPACE Eau Claire Neighbourhood Hub. Come explore the open studio daily from 9am-12pm. \n  \n[Image description: James Watson and violin appear on the left\, and Jocelyn Mah on the right. She holds her arms in the air.]\nCredit: Photos James Watson by Orein Fernandus and Photo of Jocelyn Mah by Ghbohunmi
URL:https://eau-claire.cspaceprojects.com/events/creative-intersections-open-studio-2/
LOCATION:cSPACE Eau Claire\, 381 2 Ave SW\, Calgary\, Alberta\, T2P 5E9\, Canada
CATEGORIES:Open Studio
END:VEVENT
BEGIN:VEVENT
DTSTART;TZID=UTC:20230220T090000
DTEND;TZID=UTC:20230220T120000
DTSTAMP:20260419T162426
CREATED:20230216T222626Z
LAST-MODIFIED:20230216T223402Z
UID:9447-1676883600-1676894400@eau-claire.cspaceprojects.com
SUMMARY:Creative Intersections - Open Studio
DESCRIPTION:Violinist/composer James Watson and Dance Artist Jocelyn Mah join forces collaboratively for a week of exploration and creation at the cSPACE Eau Claire Neighbourhood Hub. Come explore the open studio daily from 9am-12pm. \n  \n[Image description: James Watson and violin appear on the left\, and Jocelyn Mah on the right. She holds her arms in the air.]\nCredit: Photos James Watson by Orein Fernandus and Photo of Jocelyn Mah by Ghbohunmi
URL:https://eau-claire.cspaceprojects.com/events/creative-intersections-open-studio-2/
LOCATION:cSPACE Eau Claire\, 381 2 Ave SW\, Calgary\, Alberta\, T2P 5E9\, Canada
CATEGORIES:Open Studio
END:VEVENT
BEGIN:VEVENT
DTSTART;TZID=UTC:20230220T090000
DTEND;TZID=UTC:20230220T120000
DTSTAMP:20260419T162426
CREATED:20230216T222626Z
LAST-MODIFIED:20230216T223402Z
UID:9447-1676883600-1676894400@eau-claire.cspaceprojects.com
SUMMARY:Creative Intersections - Open Studio
DESCRIPTION:Violinist/composer James Watson and Dance Artist Jocelyn Mah join forces collaboratively for a week of exploration and creation at the cSPACE Eau Claire Neighbourhood Hub. Come explore the open studio daily from 9am-12pm. \n  \n[Image description: James Watson and violin appear on the left\, and Jocelyn Mah on the right. She holds her arms in the air.]\nCredit: Photos James Watson by Orein Fernandus and Photo of Jocelyn Mah by Ghbohunmi
URL:https://eau-claire.cspaceprojects.com/events/creative-intersections-open-studio-2/
LOCATION:cSPACE Eau Claire\, 381 2 Ave SW\, Calgary\, Alberta\, T2P 5E9\, Canada
CATEGORIES:Open Studio
END:VEVENT
BEGIN:VEVENT
DTSTART;TZID=UTC:20230220T090000
DTEND;TZID=UTC:20230220T120000
DTSTAMP:20260419T162426
CREATED:20230216T222626Z
LAST-MODIFIED:20230216T223402Z
UID:9447-1676883600-1676894400@eau-claire.cspaceprojects.com
SUMMARY:Creative Intersections - Open Studio
DESCRIPTION:Violinist/composer James Watson and Dance Artist Jocelyn Mah join forces collaboratively for a week of exploration and creation at the cSPACE Eau Claire Neighbourhood Hub. Come explore the open studio daily from 9am-12pm. \n  \n[Image description: James Watson and violin appear on the left\, and Jocelyn Mah on the right. She holds her arms in the air.]\nCredit: Photos James Watson by Orein Fernandus and Photo of Jocelyn Mah by Ghbohunmi
URL:https://eau-claire.cspaceprojects.com/events/creative-intersections-open-studio-2/
LOCATION:cSPACE Eau Claire\, 381 2 Ave SW\, Calgary\, Alberta\, T2P 5E9\, Canada
CATEGORIES:Open Studio
END:VEVENT
BEGIN:VEVENT
DTSTART;TZID=UTC:20230220T090000
DTEND;TZID=UTC:20230220T120000
DTSTAMP:20260419T162426
CREATED:20230216T222626Z
LAST-MODIFIED:20230216T223402Z
UID:9447-1676883600-1676894400@eau-claire.cspaceprojects.com
SUMMARY:Creative Intersections - Open Studio
DESCRIPTION:Violinist/composer James Watson and Dance Artist Jocelyn Mah join forces collaboratively for a week of exploration and creation at the cSPACE Eau Claire Neighbourhood Hub. Come explore the open studio daily from 9am-12pm. \n  \n[Image description: James Watson and violin appear on the left\, and Jocelyn Mah on the right. She holds her arms in the air.]\nCredit: Photos James Watson by Orein Fernandus and Photo of Jocelyn Mah by Ghbohunmi
URL:https://eau-claire.cspaceprojects.com/events/creative-intersections-open-studio-2/
LOCATION:cSPACE Eau Claire\, 381 2 Ave SW\, Calgary\, Alberta\, T2P 5E9\, Canada
CATEGORIES:Open Studio
END:VEVENT
END:VCALENDAR