BEGIN:VCALENDAR
VERSION:2.0
PRODID:-//cSPACE Eau Claire - ECPv6.15.20//NONSGML v1.0//EN
CALSCALE:GREGORIAN
METHOD:PUBLISH
X-WR-CALNAME:cSPACE Eau Claire
X-ORIGINAL-URL:https://eau-claire.cspaceprojects.com
X-WR-CALDESC:Events for cSPACE Eau Claire
REFRESH-INTERVAL;VALUE=DURATION:PT1H
X-Robots-Tag:noindex
X-PUBLISHED-TTL:PT1H
BEGIN:VTIMEZONE
TZID:UTC
BEGIN:STANDARD
TZOFFSETFROM:+0000
TZOFFSETTO:+0000
TZNAME:UTC
DTSTART:20220101T000000
END:STANDARD
END:VTIMEZONE
BEGIN:VEVENT
DTSTART;TZID=UTC:20230905T120000
DTEND;TZID=UTC:20230905T130000
DTSTAMP:20260419T165927
CREATED:20230808T213318Z
LAST-MODIFIED:20230831T202926Z
UID:13642-1693915200-1693918800@eau-claire.cspaceprojects.com
SUMMARY:This is Not My Culture - Watch and Work: Circle of Care
DESCRIPTION:Watch and Work is a series of films and documentaries you can watch while artist Xstine Cook works on her Hub residency. Be welcome to bring along a project of your own. Please use the Eventbrite link to register. \nTuesday September 5\n12pm: Watch and Work: Circle of Care – Gender Identity EDIA Workshop produced by Calgary Arts Development Association (CADA). \nCome by to watch CADA’s Virtual Town Hall – Circle of Care–Gender Identity EDIA Workshop led by Sable Sweetgrass. This is a 1-hour Zoom session that we will watch during artist Xstine Cook’s residency at the Hub. \n 
URL:https://eau-claire.cspaceprojects.com/events/this-is-not-my-culture-watch-and-work/
LOCATION:cSPACE Eau Claire Neighbourhood Hub\, 381 2 Avenue Southwest\, Calgary\, AB\, T2P 0C5\, Canada
CATEGORIES:Artist Talk,cSPACE Eau Claire Neighbourhood Hub,Event,Open Studio,Residency
ATTACH;FMTTYPE=image/jpeg:https://eau-claire.cspaceprojects.com/wp-content/uploads/2023/08/this_is_not_my_culture_xstine_cook_cspace_air_photo_don_cook-copy-scaled.jpg
END:VEVENT
BEGIN:VEVENT
DTSTART;TZID=UTC:20230905T150000
DTEND;TZID=UTC:20230905T170000
DTSTAMP:20260419T165927
CREATED:20230831T202302Z
LAST-MODIFIED:20230831T203720Z
UID:13980-1693926000-1693933200@eau-claire.cspaceprojects.com
SUMMARY:This is Not My Culture - Watch and Work: 18 Products Made From Trash
DESCRIPTION:Watch and Work is a series of films and documentaries you can watch while artist Xstine Cook works on her Hub residency. Be welcome to bring along a project of your own. Please use the Eventbrite link to register. \nEvent 2: Tuesday September 5\n3pm: Watch and Work: 18 Products Made from Trash \n\nDrop in to watch 18 Products Made From Trash – a 2.5 hour documentary during artist Xstine Cook’s residency at the Hub. \n\n18 Products Made From Trash is from Season 3 Marathon | World Wide Waste | Insider Business \nWe make 2 billion metric tons of garbage every year. This documentary highlights people\, companies\, and governments all over the world who are using old and new technologies to turn trash into treasure. Whether it’s bricks made from milk cartons or eyeglasses made from coffee grounds\, or mats made from. human hair\, here’s 18 fascinating examples of how people around the globe deal with World Wide Waste.  \n18 Products Made From Trash will play as part of Xstine Cook’s Artist in Residency “This is Not My Culture” at cSPACE Eau Claire Neighbourhood Hub. Cook will be working on her art during the video screning\, and attendees are welcome to bring along a project they want to work on while watching and listening to the video. \nFree screening of this video is presented as part of Xstine Cook’s This is Not My Culture artist residency at cSPACE Eau Claire Neighbourhood Hub. Xstine will be modifying and altering reclaimed commercial plastic packaging material into an artistic creation during the month of September. \nThe cSPACE Eau Claire Hub Artist in Residency program is supported by cSPACE Projects and The City of Calgary.  \n*Note that capacity is extremely limited.* If you sign up\, please attend\, or cancel your reservation so that others may. \nPlease consider a donation to Nature Conservancy of Canada \nhttps://secure.natureconservancy.ca/site/SPageNavigator/Forms/landing.html?s_locale=en_CA&_ga=2.136098099.329967507.1691470962-445715520.1691470962
URL:https://eau-claire.cspaceprojects.com/events/this-is-not-my-culture-watch-and-work-18-products-made-from-trash/
LOCATION:cSPACE Eau Claire Neighbourhood Hub\, 381 2 Avenue Southwest\, Calgary\, AB\, T2P 0C5\, Canada
CATEGORIES:Artist Talk,cSPACE Eau Claire Neighbourhood Hub,Event,Open Studio,Residency
ATTACH;FMTTYPE=image/jpeg:https://eau-claire.cspaceprojects.com/wp-content/uploads/2023/08/18_products_made_from_trash_watch_and_work_this_is_not_my_culture_xstine_cook_hub_residency-scaled-e1693513558565.jpg
END:VEVENT
BEGIN:VEVENT
DTSTART;TZID=UTC:20230910T130000
DTEND;TZID=UTC:20230910T170000
DTSTAMP:20260419T165927
CREATED:20230808T213807Z
LAST-MODIFIED:20230831T221944Z
UID:13660-1694350800-1694365200@eau-claire.cspaceprojects.com
SUMMARY:This is Not My Culture - DIY Mask Making Activity
DESCRIPTION:Drop in and try your hand transforming plastic into an interesting mask. All ages\, children welcome with accompanying adult. \nABOUT XSTINE COOK: \nA cultural activist who uses the power of storytelling to bring unconventional stories and art forms to light\, Xstine Cook operates on the core belief that all humans are art makers\, and acts of radical creativity are necessary to evolve our understanding of ourselves\, each other and our world. \nXstine is a visitor to the Treaty 7 area\, who was raised in Calgary and in the foothills of Alberta along Dog Pound Creek. Cook is a mask maker and multi-disciplinarian and she trained at Dell’Arte theatre school in Humboldt County California\, and with various masters in Indonesia\, Italy\, France\, and the West Coast of Canada. \nXstine co-founded Green Fools Theatre where she wrote\, directed\, and designed many of the company’s boundary-stretching original works until she left in 2003 to start the Festival of Animated Objects\, and CAOS\, an interdisciplinary arts company. \nXstine is the recipient of the 2022 City of Calgary Award for Community Achievement in the Arts\, the Queen Elizabeth II’s Platinum Jubilee Medal\, the Rozsa Foundation’s Innovation Award\, and countless awards for her filmmaking. \nShe recently co-wrote and produced MONSTR\, an animated short by Tank Standing Buffalo for HBO Max Warner Brothers Discovery Access Animated Shorts Program. \n  \nPhoto Credit: Sean Dennie
URL:https://eau-claire.cspaceprojects.com/events/this-is-not-my-culture-diy-mask-making-activity/
LOCATION:cSPACE Eau Claire Neighbourhood Hub\, 381 2 Avenue Southwest\, Calgary\, AB\, T2P 0C5\, Canada
CATEGORIES:Artist Talk,cSPACE Eau Claire Neighbourhood Hub,Event,Open Studio,Residency,Workshop
ATTACH;FMTTYPE=image/jpeg:https://eau-claire.cspaceprojects.com/wp-content/uploads/2023/08/picture1.jpg
END:VEVENT
BEGIN:VEVENT
DTSTART;TZID=UTC:20230910T130000
DTEND;TZID=UTC:20230910T170000
DTSTAMP:20260419T165927
CREATED:20230808T213807Z
LAST-MODIFIED:20230831T221944Z
UID:13660-1694350800-1694365200@eau-claire.cspaceprojects.com
SUMMARY:This is Not My Culture - DIY Mask Making Activity
DESCRIPTION:Drop in and try your hand transforming plastic into an interesting mask. All ages\, children welcome with accompanying adult. \nABOUT XSTINE COOK: \nA cultural activist who uses the power of storytelling to bring unconventional stories and art forms to light\, Xstine Cook operates on the core belief that all humans are art makers\, and acts of radical creativity are necessary to evolve our understanding of ourselves\, each other and our world. \nXstine is a visitor to the Treaty 7 area\, who was raised in Calgary and in the foothills of Alberta along Dog Pound Creek. Cook is a mask maker and multi-disciplinarian and she trained at Dell’Arte theatre school in Humboldt County California\, and with various masters in Indonesia\, Italy\, France\, and the West Coast of Canada. \nXstine co-founded Green Fools Theatre where she wrote\, directed\, and designed many of the company’s boundary-stretching original works until she left in 2003 to start the Festival of Animated Objects\, and CAOS\, an interdisciplinary arts company. \nXstine is the recipient of the 2022 City of Calgary Award for Community Achievement in the Arts\, the Queen Elizabeth II’s Platinum Jubilee Medal\, the Rozsa Foundation’s Innovation Award\, and countless awards for her filmmaking. \nShe recently co-wrote and produced MONSTR\, an animated short by Tank Standing Buffalo for HBO Max Warner Brothers Discovery Access Animated Shorts Program. \n  \nPhoto Credit: Sean Dennie
URL:https://eau-claire.cspaceprojects.com/events/this-is-not-my-culture-diy-mask-making-activity/
LOCATION:cSPACE Eau Claire Neighbourhood Hub\, 381 2 Avenue Southwest\, Calgary\, AB\, T2P 0C5\, Canada
CATEGORIES:Artist Talk,cSPACE Eau Claire Neighbourhood Hub,Event,Open Studio,Residency,Workshop
ATTACH;FMTTYPE=image/jpeg:https://eau-claire.cspaceprojects.com/wp-content/uploads/2023/08/picture1.jpg
END:VEVENT
BEGIN:VEVENT
DTSTART;TZID=UTC:20230928T170000
DTEND;TZID=UTC:20230928T210000
DTSTAMP:20260419T165927
CREATED:20230808T190933Z
LAST-MODIFIED:20230831T224904Z
UID:13721-1695920400-1695934800@eau-claire.cspaceprojects.com
SUMMARY:This is Not My Culture - Public Exhibition
DESCRIPTION:Artist Xstine Cook invites you to view the results of her month-long residency and contemplate the creative potential of plastic. \nReception at 7 pm on September 28 \nThe packaging materials for this residency were generated by Cook’s family’s normal consumption over the course of a year\, and were prepared on site in the Hub\, where the art was imagined\, designed\, and created. \nBy touching\, manipulating\, and re-purposing plastic that was intended for a single use before being thrown to Earth to process over unknown millennia\, “This is Not My Culture” invites you to view this miraculous material not as waste\, but as an extraordinary resource. This is Not My Culture contemplates the globe’s frantic pace of plastic generation that is at the crux of the fraught relationship between humans’ minds and hearts; our addiction to convenience\, vs the interconnectedness of all life. \n  \nABOUT XSTINE COOK \nA cultural activist who uses the power of storytelling to bring unconventional stories and art forms to light\, Xstine Cook operates on the core belief that all humans are art makers\, and acts of radical creativity are necessary to evolve our understanding of ourselves\, each other and our world. \nXstine is a visitor to the Treaty 7 area\, who was raised in Calgary and in the foothills of Alberta along Dog Pound Creek. Cook is a mask maker and multi-disciplinarian. She trained at Dell’Arte theatre school in Humboldt County California\, and with various masters in Indonesia\, Italy\, France\, and the West Coast of Canada. \nXstine co-founded Green Fools Theatre where she wrote\, directed\, and designed many of the company’s boundary-stretching original works until she left in 2003 to start the Festival of Animated Objects\, and CAOS\, an interdisciplinary arts company. \nXstine is the recipient of the 2022 City of Calgary Award for Community Achievement in the Arts\, the Queen Elizabeth II’s Platinum Jubilee Medal\, the Rozsa Foundation’s Innovation Award\, and countless awards for her filmmaking. \nCook recently co-wrote and produced MONSTR\, an animated short by Tank Standing Buffalo for HBO Max Warner Brothers Discovery Access Animated Shorts Program.
URL:https://eau-claire.cspaceprojects.com/events/this-is-not-my-culture-public-exhibition-3/
LOCATION:cSPACE Eau Claire Neighbourhood Hub\, 381 2 Avenue Southwest\, Calgary\, AB\, T2P 0C5\, Canada
CATEGORIES:Artist Talk,Event,Exhibition,Open Studio,Residency,Workshop
ATTACH;FMTTYPE=image/jpeg:https://eau-claire.cspaceprojects.com/wp-content/uploads/2023/08/this_is_not_my_culture_xstine_cook_cspace_air-scaled-e1693521868701.jpg
END:VEVENT
BEGIN:VEVENT
DTSTART;TZID=UTC:20230928T170000
DTEND;TZID=UTC:20230928T210000
DTSTAMP:20260419T165927
CREATED:20230808T190933Z
LAST-MODIFIED:20230831T224904Z
UID:13721-1695920400-1695934800@eau-claire.cspaceprojects.com
SUMMARY:This is Not My Culture - Public Exhibition
DESCRIPTION:Artist Xstine Cook invites you to view the results of her month-long residency and contemplate the creative potential of plastic. \nReception at 7 pm on September 28 \nThe packaging materials for this residency were generated by Cook’s family’s normal consumption over the course of a year\, and were prepared on site in the Hub\, where the art was imagined\, designed\, and created. \nBy touching\, manipulating\, and re-purposing plastic that was intended for a single use before being thrown to Earth to process over unknown millennia\, “This is Not My Culture” invites you to view this miraculous material not as waste\, but as an extraordinary resource. This is Not My Culture contemplates the globe’s frantic pace of plastic generation that is at the crux of the fraught relationship between humans’ minds and hearts; our addiction to convenience\, vs the interconnectedness of all life. \n  \nABOUT XSTINE COOK \nA cultural activist who uses the power of storytelling to bring unconventional stories and art forms to light\, Xstine Cook operates on the core belief that all humans are art makers\, and acts of radical creativity are necessary to evolve our understanding of ourselves\, each other and our world. \nXstine is a visitor to the Treaty 7 area\, who was raised in Calgary and in the foothills of Alberta along Dog Pound Creek. Cook is a mask maker and multi-disciplinarian. She trained at Dell’Arte theatre school in Humboldt County California\, and with various masters in Indonesia\, Italy\, France\, and the West Coast of Canada. \nXstine co-founded Green Fools Theatre where she wrote\, directed\, and designed many of the company’s boundary-stretching original works until she left in 2003 to start the Festival of Animated Objects\, and CAOS\, an interdisciplinary arts company. \nXstine is the recipient of the 2022 City of Calgary Award for Community Achievement in the Arts\, the Queen Elizabeth II’s Platinum Jubilee Medal\, the Rozsa Foundation’s Innovation Award\, and countless awards for her filmmaking. \nCook recently co-wrote and produced MONSTR\, an animated short by Tank Standing Buffalo for HBO Max Warner Brothers Discovery Access Animated Shorts Program.
URL:https://eau-claire.cspaceprojects.com/events/this-is-not-my-culture-public-exhibition-3/
LOCATION:cSPACE Eau Claire Neighbourhood Hub\, 381 2 Avenue Southwest\, Calgary\, AB\, T2P 0C5\, Canada
CATEGORIES:Artist Talk,Event,Exhibition,Open Studio,Residency,Workshop
ATTACH;FMTTYPE=image/jpeg:https://eau-claire.cspaceprojects.com/wp-content/uploads/2023/08/this_is_not_my_culture_xstine_cook_cspace_air-scaled-e1693521868701.jpg
END:VEVENT
END:VCALENDAR