BEGIN:VCALENDAR
VERSION:2.0
PRODID:-//cSPACE Eau Claire - ECPv6.15.20//NONSGML v1.0//EN
CALSCALE:GREGORIAN
METHOD:PUBLISH
X-WR-CALNAME:cSPACE Eau Claire
X-ORIGINAL-URL:https://eau-claire.cspaceprojects.com
X-WR-CALDESC:Events for cSPACE Eau Claire
REFRESH-INTERVAL;VALUE=DURATION:PT1H
X-Robots-Tag:noindex
X-PUBLISHED-TTL:PT1H
BEGIN:VTIMEZONE
TZID:UTC
BEGIN:STANDARD
TZOFFSETFROM:+0000
TZOFFSETTO:+0000
TZNAME:UTC
DTSTART:20220101T000000
END:STANDARD
END:VTIMEZONE
BEGIN:VEVENT
DTSTART;TZID=UTC:20231031T160000
DTEND;TZID=UTC:20231031T180000
DTSTAMP:20260420T130936
CREATED:20231023T184503Z
LAST-MODIFIED:20231024T211424Z
UID:14046-1698768000-1698775200@eau-claire.cspaceprojects.com
SUMMARY:BYOB: Bring Your Own Boo's
DESCRIPTION:Freedom Through Theatre’s Opening Halloween Meet and Greet. Bring your own character and come ready to play. \nFree
URL:https://eau-claire.cspaceprojects.com/events/byob-bring-your-own-boos/
LOCATION:cSPACE Eau Claire Neighbourhood Hub\, 381 2 Avenue Southwest\, Calgary\, AB\, T2P 0C5\, Canada
CATEGORIES:cSPACE Eau Claire Neighbourhood Hub,Event,Reception,Workshop
ATTACH;FMTTYPE=image/jpeg:https://eau-claire.cspaceprojects.com/wp-content/uploads/2023/10/halloween.-meetgreet.jpg
ORGANIZER;CN="Linda Kee":MAILTO:thereallindakee@gmail.com
END:VEVENT
BEGIN:VEVENT
DTSTART;TZID=UTC:20230924T110000
DTEND;TZID=UTC:20230924T120000
DTSTAMP:20260420T130936
CREATED:20230831T215516Z
LAST-MODIFIED:20230831T215516Z
UID:14004-1695553200-1695556800@eau-claire.cspaceprojects.com
SUMMARY:This is Not My Culture - Pollution Solution Screening and Reception
DESCRIPTION:Pollution Solution is a short 6 minute documentary that explores what people are doing about pollution. Made by a group of 6 young cousins who wonder if the world is ending due to human activity. By asking people how they address the pollution crisis in their everyday lives\, and using animation to illustrate the responses\, the filmmakers hope to inspire viewers to do their part in solving the pollution solution. \nStay for a reception and chat after the screening. \nFILMMAKER BIO \nThe Bum Family are a group of 6 cousins from Calgary who create short animated movies together. At the time of making Pollution Solution\, Maezy\, Medina and Zaiyah Dennie were ages 18\, 16 and 14\, and Berlin\, Ocean and Sol Demuth were ages 18\, 16 and 11. The Bum Family write their concepts\, create the artwork\, direct\, animate and edit their movies. Their short films have screened at over 100 film festivals\, and have won awards for Audience Favourite and Best Animation. They have made a short film for Sesame Street\, and their Lilly Monster character is featured in an augmented reality app\, Lilly in the Lab. \nDIRECTOR STATEMENT \nThe state of climate change\, environmental destruction\, and human beings’ undeniable impact on life on earth prompted us to make a film that asks you to consider what your own pollution solutions are. \nThe Bum Family captured all of our interview material in a series of shoots before the Covid19 quarantine period started. The editing and animation process took place after Calgary was asked to go into lockdown\, with both families in isolation from each other. Animation was done digitally\, a first for the Bum Family\, and by stop-motion animating collages made from recycled materials. \nWebsite:\nhttps://bumfamily.com \nInstagram:\nhttps://www.instagram.com/_bum_family_/ \n  \nPhoto credit: The Bum Family
URL:https://eau-claire.cspaceprojects.com/events/this-is-not-my-culture-pollution-solution-screening-and-reception/
LOCATION:cSPACE Eau Claire Neighbourhood Hub\, 381 2 Avenue Southwest\, Calgary\, AB\, T2P 0C5\, Canada
CATEGORIES:Reception,Screening
ATTACH;FMTTYPE=image/jpeg:https://eau-claire.cspaceprojects.com/wp-content/uploads/2023/08/pollution_solution_by_the_bum_family_1-e1693518889998.jpg
END:VEVENT
END:VCALENDAR