BEGIN:VCALENDAR
VERSION:2.0
PRODID:-//cSPACE Eau Claire - ECPv6.15.20//NONSGML v1.0//EN
CALSCALE:GREGORIAN
METHOD:PUBLISH
X-WR-CALNAME:cSPACE Eau Claire
X-ORIGINAL-URL:https://eau-claire.cspaceprojects.com
X-WR-CALDESC:Events for cSPACE Eau Claire
REFRESH-INTERVAL;VALUE=DURATION:PT1H
X-Robots-Tag:noindex
X-PUBLISHED-TTL:PT1H
BEGIN:VTIMEZONE
TZID:UTC
BEGIN:STANDARD
TZOFFSETFROM:+0000
TZOFFSETTO:+0000
TZNAME:UTC
DTSTART:20220101T000000
END:STANDARD
END:VTIMEZONE
BEGIN:VTIMEZONE
TZID:America/Edmonton
BEGIN:DAYLIGHT
TZOFFSETFROM:-0700
TZOFFSETTO:-0600
TZNAME:MDT
DTSTART:20220313T090000
END:DAYLIGHT
BEGIN:STANDARD
TZOFFSETFROM:-0600
TZOFFSETTO:-0700
TZNAME:MST
DTSTART:20221106T080000
END:STANDARD
BEGIN:DAYLIGHT
TZOFFSETFROM:-0700
TZOFFSETTO:-0600
TZNAME:MDT
DTSTART:20230312T090000
END:DAYLIGHT
BEGIN:STANDARD
TZOFFSETFROM:-0600
TZOFFSETTO:-0700
TZNAME:MST
DTSTART:20231105T080000
END:STANDARD
BEGIN:DAYLIGHT
TZOFFSETFROM:-0700
TZOFFSETTO:-0600
TZNAME:MDT
DTSTART:20240310T090000
END:DAYLIGHT
BEGIN:STANDARD
TZOFFSETFROM:-0600
TZOFFSETTO:-0700
TZNAME:MST
DTSTART:20241103T080000
END:STANDARD
END:VTIMEZONE
BEGIN:VEVENT
DTSTART;TZID=UTC:20230502T110000
DTEND;TZID=UTC:20230502T160000
DTSTAMP:20260419T153036
CREATED:20230508T164112Z
LAST-MODIFIED:20230508T164112Z
UID:13057-1683025200-1683043200@eau-claire.cspaceprojects.com
SUMMARY:Installation of: MaSh-UP VIII: See-Space\, Experimental Placemaking
DESCRIPTION:Come on down to the cSpace Eau Claire Hub @ 326 3rd Avenue SW – Lot #197 and interact with installation artist Be. during his newest iteration of MaSh-UP\, ask questions\, make suggestions\, or just hang. Featuring new works only showcased abroad for the last iteration\, MaSh-UP VII: Jetzt mal Butter bei die Fische {Now Butter for the Fish} in Bremerhaven\, Germany for ArtSpace Bremerhaven 2022\, and projections featured in ‘Game Over’ Berlin; this will be the first showing of these new additions to MaSh-UP in the projects home country. \nWhat is a MaSh-UP?\nMaSh-Up is a mixed media installation wherein all the methods that I utilize collide and respond to specific locations. The work is ever changing as I add\, discard or alter parts. On several occasions I’ve removed sections of the gallery’s dry wall\, repurposing it in the next iteration; thereby I create an additive progression that references the durational nature of the project that builds its own history and narrative through its inventory. \nI cut paintings in halves\, thirds\, quarters\, etc.\, for the installation in order to bend them in and around corners or up onto ceilings and floors. In addition to installing finished works\, new iterations are created on the gallery walls. The ‘additions’ I make to my finished works create repetitious patterns with wooden shapes/forms\, cast concrete\, stencilled images\, and direct serigraph prints onto the gallery wall to adorn the entirety of the space and bring all elements together into a cohesive whole. \nSculpture plinths are addressed in a similar manner\, harmonized with paintings and drawings with shelving attachments which display multiple works. Plasma torch\, hand-cut\, steel panels and sculptural renderings in the same intuitive-line are hung throughout the space which cast their shadows adding to the cacophony of visual cues. Also\, found objects collected over the period of this installation will be added to this amalgam referencing the element of continuum and site. \nThe entirety of the gallery or space becomes one work and the outcome reflects the many facets of my practice both formally and conceptually. This marks the beginning of the transition from space into place which highlights notions of placemaking embedded in my interdisciplinary art practice.
URL:https://eau-claire.cspaceprojects.com/events/installation-of-mash-up-viii-see-space-experimental-placemaking-2/
LOCATION:cSPACE Eau Claire\, 381 2 Ave SW\, Calgary\, Alberta\, T2P 5E9\, Canada
CATEGORIES:Event,Exhibition,Open Studio,Residency
ATTACH;FMTTYPE=image/jpeg:https://eau-claire.cspaceprojects.com/wp-content/uploads/2023/04/01_b.faubert_mash-up-iv-copy-scaled.jpg
ORGANIZER;CN="Xstine Cook":MAILTO:communications@cspaceprojects.com
END:VEVENT
BEGIN:VEVENT
DTSTART;TZID=UTC:20230504T110000
DTEND;TZID=UTC:20230504T160000
DTSTAMP:20260419T153036
CREATED:20230502T192505Z
LAST-MODIFIED:20230508T181612Z
UID:13073-1683198000-1683216000@eau-claire.cspaceprojects.com
SUMMARY:Installation of: MaSh-UP VIII: See-Space\, Experimental Placemaking
DESCRIPTION:Come on down to the cSpace Eau Claire Hub @ 326 3rd Avenue SW – Lot #197 and interact with installation artist Be. During his newest iteration of MaSh-UP\, ask questions\, make suggestions\, or just hang. Featuring new works only showcased abroad for the last iteration\, MaSh-UP VII: Jetzt mal Butter bei die Fische {Now Butter for the Fish} in Bremerhaven\, Germany for ArtSpace Bremerhaven 2022\, and projections featured in ‘Game Over’ Berlin; this will be the first showing of these new additions to MaSh-UP in the projects home country. \nWhat is a MaSh-UP?\nMaSh-Up is a mixed media installation wherein all the methods that I utilize collide and respond to specific locations. The work is ever changing as I add\, discard or alter parts. On several occasions I’ve removed sections of the gallery’s dry wall\, repurposing it in the next iteration; thereby I create an additive progression that references the durational nature of the project that builds its own history and narrative through its inventory. I cut paintings in halves\, thirds\, quarters\, etc.\, for the installation in order to bend them in and around corners or up onto ceilings and floors. In addition to installing finished works\, new iterations are created on the gallery walls. The ‘additions’ I make to my finished works create repetitious patterns with wooden shapes/forms\, cast concrete\, stencilled images\, and direct serigraph prints onto the gallery wall to adorn the entirety of the space and bring all elements together into a cohesive whole. Sculpture plinths are addressed in a similar manner\, harmonized with paintings and drawings with shelving attachments which display multiple works. Plasma torch\, hand-cut\, steel panels and sculptural renderings in the same intuitive-line are hung throughout the space which cast their shadows adding to the cacophony of visual cues. Also\, found objects collected over the period of this installation will be added to this amalgam referencing the element of continuum and site. The entirety of the gallery or space becomes one work and the outcome reflects the many facets of my practice both formally and conceptually. This marks the beginning of the transition from space into place which highlights notions of placemaking embedded in my interdisciplinary art practice.
URL:https://eau-claire.cspaceprojects.com/events/installation-of-mash-up-viii-see-space-experimental-placemaking/
LOCATION:cSPACE Eau Claire\, 381 2 Ave SW\, Calgary\, Alberta\, T2P 5E9\, Canada
CATEGORIES:Event,Exhibition,Open Studio,Residency
ATTACH;FMTTYPE=image/jpeg:https://eau-claire.cspaceprojects.com/wp-content/uploads/2023/04/01_b.faubert_mash-up-iv-copy-scaled.jpg
ORGANIZER;CN="Xstine Cook":MAILTO:communications@cspaceprojects.com
END:VEVENT
BEGIN:VEVENT
DTSTART;TZID=UTC:20230504T110000
DTEND;TZID=UTC:20230504T160000
DTSTAMP:20260419T153036
CREATED:20230502T192505Z
LAST-MODIFIED:20230508T181612Z
UID:13073-1683198000-1683216000@eau-claire.cspaceprojects.com
SUMMARY:Installation of: MaSh-UP VIII: See-Space\, Experimental Placemaking
DESCRIPTION:Come on down to the cSpace Eau Claire Hub @ 326 3rd Avenue SW – Lot #197 and interact with installation artist Be. During his newest iteration of MaSh-UP\, ask questions\, make suggestions\, or just hang. Featuring new works only showcased abroad for the last iteration\, MaSh-UP VII: Jetzt mal Butter bei die Fische {Now Butter for the Fish} in Bremerhaven\, Germany for ArtSpace Bremerhaven 2022\, and projections featured in ‘Game Over’ Berlin; this will be the first showing of these new additions to MaSh-UP in the projects home country. \nWhat is a MaSh-UP?\nMaSh-Up is a mixed media installation wherein all the methods that I utilize collide and respond to specific locations. The work is ever changing as I add\, discard or alter parts. On several occasions I’ve removed sections of the gallery’s dry wall\, repurposing it in the next iteration; thereby I create an additive progression that references the durational nature of the project that builds its own history and narrative through its inventory. I cut paintings in halves\, thirds\, quarters\, etc.\, for the installation in order to bend them in and around corners or up onto ceilings and floors. In addition to installing finished works\, new iterations are created on the gallery walls. The ‘additions’ I make to my finished works create repetitious patterns with wooden shapes/forms\, cast concrete\, stencilled images\, and direct serigraph prints onto the gallery wall to adorn the entirety of the space and bring all elements together into a cohesive whole. Sculpture plinths are addressed in a similar manner\, harmonized with paintings and drawings with shelving attachments which display multiple works. Plasma torch\, hand-cut\, steel panels and sculptural renderings in the same intuitive-line are hung throughout the space which cast their shadows adding to the cacophony of visual cues. Also\, found objects collected over the period of this installation will be added to this amalgam referencing the element of continuum and site. The entirety of the gallery or space becomes one work and the outcome reflects the many facets of my practice both formally and conceptually. This marks the beginning of the transition from space into place which highlights notions of placemaking embedded in my interdisciplinary art practice.
URL:https://eau-claire.cspaceprojects.com/events/installation-of-mash-up-viii-see-space-experimental-placemaking/
LOCATION:cSPACE Eau Claire\, 381 2 Ave SW\, Calgary\, Alberta\, T2P 5E9\, Canada
CATEGORIES:Event,Exhibition,Open Studio,Residency
ATTACH;FMTTYPE=image/jpeg:https://eau-claire.cspaceprojects.com/wp-content/uploads/2023/04/01_b.faubert_mash-up-iv-copy-scaled.jpg
ORGANIZER;CN="Xstine Cook":MAILTO:communications@cspaceprojects.com
END:VEVENT
BEGIN:VEVENT
DTSTART;TZID=UTC:20230504T110000
DTEND;TZID=UTC:20230504T160000
DTSTAMP:20260419T153036
CREATED:20230502T192505Z
LAST-MODIFIED:20230508T181612Z
UID:13073-1683198000-1683216000@eau-claire.cspaceprojects.com
SUMMARY:Installation of: MaSh-UP VIII: See-Space\, Experimental Placemaking
DESCRIPTION:Come on down to the cSpace Eau Claire Hub @ 326 3rd Avenue SW – Lot #197 and interact with installation artist Be. During his newest iteration of MaSh-UP\, ask questions\, make suggestions\, or just hang. Featuring new works only showcased abroad for the last iteration\, MaSh-UP VII: Jetzt mal Butter bei die Fische {Now Butter for the Fish} in Bremerhaven\, Germany for ArtSpace Bremerhaven 2022\, and projections featured in ‘Game Over’ Berlin; this will be the first showing of these new additions to MaSh-UP in the projects home country. \nWhat is a MaSh-UP?\nMaSh-Up is a mixed media installation wherein all the methods that I utilize collide and respond to specific locations. The work is ever changing as I add\, discard or alter parts. On several occasions I’ve removed sections of the gallery’s dry wall\, repurposing it in the next iteration; thereby I create an additive progression that references the durational nature of the project that builds its own history and narrative through its inventory. I cut paintings in halves\, thirds\, quarters\, etc.\, for the installation in order to bend them in and around corners or up onto ceilings and floors. In addition to installing finished works\, new iterations are created on the gallery walls. The ‘additions’ I make to my finished works create repetitious patterns with wooden shapes/forms\, cast concrete\, stencilled images\, and direct serigraph prints onto the gallery wall to adorn the entirety of the space and bring all elements together into a cohesive whole. Sculpture plinths are addressed in a similar manner\, harmonized with paintings and drawings with shelving attachments which display multiple works. Plasma torch\, hand-cut\, steel panels and sculptural renderings in the same intuitive-line are hung throughout the space which cast their shadows adding to the cacophony of visual cues. Also\, found objects collected over the period of this installation will be added to this amalgam referencing the element of continuum and site. The entirety of the gallery or space becomes one work and the outcome reflects the many facets of my practice both formally and conceptually. This marks the beginning of the transition from space into place which highlights notions of placemaking embedded in my interdisciplinary art practice.
URL:https://eau-claire.cspaceprojects.com/events/installation-of-mash-up-viii-see-space-experimental-placemaking/
LOCATION:cSPACE Eau Claire\, 381 2 Ave SW\, Calgary\, Alberta\, T2P 5E9\, Canada
CATEGORIES:Event,Exhibition,Open Studio,Residency
ATTACH;FMTTYPE=image/jpeg:https://eau-claire.cspaceprojects.com/wp-content/uploads/2023/04/01_b.faubert_mash-up-iv-copy-scaled.jpg
ORGANIZER;CN="Xstine Cook":MAILTO:communications@cspaceprojects.com
END:VEVENT
BEGIN:VEVENT
DTSTART;TZID=UTC:20230511T193000
DTEND;TZID=UTC:20230511T210000
DTSTAMP:20260419T153036
CREATED:20230502T223826Z
LAST-MODIFIED:20230502T223826Z
UID:13054-1683833400-1683838800@eau-claire.cspaceprojects.com
SUMMARY:While She Sleeps Album Release
DESCRIPTION:On Thursday\, May 11 @ 7:30pm Kenna Burima celebrates the release of the While She Sleeps audio album. \nThis is a live concert event not to be missed! Audiences will be treated to live projections and a singular performance of Kenna’s new song collection\, held in an empty space on the ground floor of a downtown Calgary office tower. This is only the second time audiences will be welcomed into this particular sonic space\, born from the release of the collection’s Illuminated Songbook on January 28\, 2023 at the High Performance Rodeo. \nTicket price includes a digital copy of the album\, a complimentary beverage\, tears\, stories and songs of the harrowing journey of early motherhood\, postpartum depression and personal liberation. This event is sponsored by cSPACE\, Steiway Pianos of Calgary and RPM Piano Moving. \n* There is no opener. Show starts promptly @ 7:30 and is complete @ 8:30pm. \nEventbrite Link for tickets: https://www.eventbrite.com/e/while-she-sleeps-album-release-concert-tickets-624332694897?utm-campaign=social&utm-content=attendeeshare&utm-medium=discovery&utm-term=listing&utm-source=cp&aff=escb
URL:https://eau-claire.cspaceprojects.com/events/while-she-sleeps-album-release/
LOCATION:AB
CATEGORIES:Event
ATTACH;FMTTYPE=image/jpeg:https://eau-claire.cspaceprojects.com/wp-content/uploads/2023/04/facebookheader1.jpg
END:VEVENT
BEGIN:VEVENT
DTSTART;TZID=UTC:20230504T110000
DTEND;TZID=UTC:20230504T160000
DTSTAMP:20260419T153036
CREATED:20230502T192505Z
LAST-MODIFIED:20230508T181612Z
UID:13073-1683198000-1683216000@eau-claire.cspaceprojects.com
SUMMARY:Installation of: MaSh-UP VIII: See-Space\, Experimental Placemaking
DESCRIPTION:Come on down to the cSpace Eau Claire Hub @ 326 3rd Avenue SW – Lot #197 and interact with installation artist Be. During his newest iteration of MaSh-UP\, ask questions\, make suggestions\, or just hang. Featuring new works only showcased abroad for the last iteration\, MaSh-UP VII: Jetzt mal Butter bei die Fische {Now Butter for the Fish} in Bremerhaven\, Germany for ArtSpace Bremerhaven 2022\, and projections featured in ‘Game Over’ Berlin; this will be the first showing of these new additions to MaSh-UP in the projects home country. \nWhat is a MaSh-UP?\nMaSh-Up is a mixed media installation wherein all the methods that I utilize collide and respond to specific locations. The work is ever changing as I add\, discard or alter parts. On several occasions I’ve removed sections of the gallery’s dry wall\, repurposing it in the next iteration; thereby I create an additive progression that references the durational nature of the project that builds its own history and narrative through its inventory. I cut paintings in halves\, thirds\, quarters\, etc.\, for the installation in order to bend them in and around corners or up onto ceilings and floors. In addition to installing finished works\, new iterations are created on the gallery walls. The ‘additions’ I make to my finished works create repetitious patterns with wooden shapes/forms\, cast concrete\, stencilled images\, and direct serigraph prints onto the gallery wall to adorn the entirety of the space and bring all elements together into a cohesive whole. Sculpture plinths are addressed in a similar manner\, harmonized with paintings and drawings with shelving attachments which display multiple works. Plasma torch\, hand-cut\, steel panels and sculptural renderings in the same intuitive-line are hung throughout the space which cast their shadows adding to the cacophony of visual cues. Also\, found objects collected over the period of this installation will be added to this amalgam referencing the element of continuum and site. The entirety of the gallery or space becomes one work and the outcome reflects the many facets of my practice both formally and conceptually. This marks the beginning of the transition from space into place which highlights notions of placemaking embedded in my interdisciplinary art practice.
URL:https://eau-claire.cspaceprojects.com/events/installation-of-mash-up-viii-see-space-experimental-placemaking/
LOCATION:cSPACE Eau Claire\, 381 2 Ave SW\, Calgary\, Alberta\, T2P 5E9\, Canada
CATEGORIES:Event,Exhibition,Open Studio,Residency
ATTACH;FMTTYPE=image/jpeg:https://eau-claire.cspaceprojects.com/wp-content/uploads/2023/04/01_b.faubert_mash-up-iv-copy-scaled.jpg
ORGANIZER;CN="Xstine Cook":MAILTO:communications@cspaceprojects.com
END:VEVENT
BEGIN:VEVENT
DTSTART;TZID=UTC:20230504T110000
DTEND;TZID=UTC:20230504T160000
DTSTAMP:20260419T153036
CREATED:20230502T192505Z
LAST-MODIFIED:20230508T181612Z
UID:13073-1683198000-1683216000@eau-claire.cspaceprojects.com
SUMMARY:Installation of: MaSh-UP VIII: See-Space\, Experimental Placemaking
DESCRIPTION:Come on down to the cSpace Eau Claire Hub @ 326 3rd Avenue SW – Lot #197 and interact with installation artist Be. During his newest iteration of MaSh-UP\, ask questions\, make suggestions\, or just hang. Featuring new works only showcased abroad for the last iteration\, MaSh-UP VII: Jetzt mal Butter bei die Fische {Now Butter for the Fish} in Bremerhaven\, Germany for ArtSpace Bremerhaven 2022\, and projections featured in ‘Game Over’ Berlin; this will be the first showing of these new additions to MaSh-UP in the projects home country. \nWhat is a MaSh-UP?\nMaSh-Up is a mixed media installation wherein all the methods that I utilize collide and respond to specific locations. The work is ever changing as I add\, discard or alter parts. On several occasions I’ve removed sections of the gallery’s dry wall\, repurposing it in the next iteration; thereby I create an additive progression that references the durational nature of the project that builds its own history and narrative through its inventory. I cut paintings in halves\, thirds\, quarters\, etc.\, for the installation in order to bend them in and around corners or up onto ceilings and floors. In addition to installing finished works\, new iterations are created on the gallery walls. The ‘additions’ I make to my finished works create repetitious patterns with wooden shapes/forms\, cast concrete\, stencilled images\, and direct serigraph prints onto the gallery wall to adorn the entirety of the space and bring all elements together into a cohesive whole. Sculpture plinths are addressed in a similar manner\, harmonized with paintings and drawings with shelving attachments which display multiple works. Plasma torch\, hand-cut\, steel panels and sculptural renderings in the same intuitive-line are hung throughout the space which cast their shadows adding to the cacophony of visual cues. Also\, found objects collected over the period of this installation will be added to this amalgam referencing the element of continuum and site. The entirety of the gallery or space becomes one work and the outcome reflects the many facets of my practice both formally and conceptually. This marks the beginning of the transition from space into place which highlights notions of placemaking embedded in my interdisciplinary art practice.
URL:https://eau-claire.cspaceprojects.com/events/installation-of-mash-up-viii-see-space-experimental-placemaking/
LOCATION:cSPACE Eau Claire\, 381 2 Ave SW\, Calgary\, Alberta\, T2P 5E9\, Canada
CATEGORIES:Event,Exhibition,Open Studio,Residency
ATTACH;FMTTYPE=image/jpeg:https://eau-claire.cspaceprojects.com/wp-content/uploads/2023/04/01_b.faubert_mash-up-iv-copy-scaled.jpg
ORGANIZER;CN="Xstine Cook":MAILTO:communications@cspaceprojects.com
END:VEVENT
BEGIN:VEVENT
DTSTART;TZID=America/Edmonton:20230518T183000
DTEND;TZID=America/Edmonton:20230518T213000
DTSTAMP:20260419T153036
CREATED:20230510T170609Z
LAST-MODIFIED:20230510T170610Z
UID:13107-1684434600-1684445400@eau-claire.cspaceprojects.com
SUMMARY:Exhibition Opening-MaSh-UP VIII: See-Space\, Experimental Placemaking
DESCRIPTION:MaSh-UP VIII will feature all four elements of Hip-Hop culture\, MC’s\, DJ’s\, Breakdancers\, and Graffiti Writing. Brought to you by Be.\n\n\nThe newest iteration of MaSh-UP will feature works only seen abroad in Germany at ArtSpace Bremerhaven 2022. This GRAND OPENING will bring together all four elements of Hip-Hop Culture: MC’ing and DJ’ing by Antyx Community Arts\, a Breakdance demonstration by Cypherborn Crew based in Calgary\, and the experimental Graffiti/Streetworks installation of Be. aka Bryan Faubert. \nThis event is sponsored by the c-Space Eau Claire Community Hub and all proceeds will go to the Antyx Community Arts group. Come out and be a part of Placemaking transition of Space to Place initiated by the people-in-place.
URL:https://eau-claire.cspaceprojects.com/events/exhibition-opening-mash-up-viii-see-space-experimental-placemaking/
LOCATION:cSPACE Eau Claire Neighbourhood Hub\, 381 2 Avenue Southwest\, Calgary\, AB\, T2P 0C5\, Canada
CATEGORIES:Artist Talk
ATTACH;FMTTYPE=image/jpeg:https://eau-claire.cspaceprojects.com/wp-content/uploads/2023/05/e2f9a43bc6631882dcc4d9167ca7cfd4-1.jpg
END:VEVENT
BEGIN:VEVENT
DTSTART;TZID=UTC:20230520T213000
DTEND;TZID=UTC:20230520T223000
DTSTAMP:20260419T153036
CREATED:20230502T223255Z
LAST-MODIFIED:20230502T223255Z
UID:13064-1684618200-1684621800@eau-claire.cspaceprojects.com
SUMMARY:Shadow Bombing Tour
DESCRIPTION:Come out on a Shadow Bombing excersion with artist Be. through the alleyways and downtown core of Calgary. Starting at the cSPACE Eau Claire Neighbourhood Hub and venturing through the city. \nAbout Shadow Bombing\nShadow Bombing is a term coined by Graffit/Streetartist/Urban-Interventionist Be. aka Bryan Faubert. Utilizing a portable GOBO projector the artist tours the downtown core projecting rotating imagery of interconnected\, cultural and ethnic\, gender fluid hybridized figurative compositions. These compositions come together much like the interconnected letters in Graffiti Art\, but render a figurative dialogue reflective of the mulitcultual landscape of our city. Temporal moments of projected grandeur ranging in scale from 1’to 300′ in diameter. \nThis event is sponsored by the cSPACE Eau Claire Neighbourhood Hub.
URL:https://eau-claire.cspaceprojects.com/events/shadow-bombing-tour/
LOCATION:cSPACE Eau Claire\, 381 2 Ave SW\, Calgary\, Alberta\, T2P 5E9\, Canada
CATEGORIES:Event
ATTACH;FMTTYPE=image/jpeg:https://eau-claire.cspaceprojects.com/wp-content/uploads/2023/05/untitled.001.jpeg
END:VEVENT
END:VCALENDAR