BEGIN:VCALENDAR
VERSION:2.0
PRODID:-//cSPACE Eau Claire - ECPv6.15.20//NONSGML v1.0//EN
CALSCALE:GREGORIAN
METHOD:PUBLISH
X-WR-CALNAME:cSPACE Eau Claire
X-ORIGINAL-URL:https://eau-claire.cspaceprojects.com
X-WR-CALDESC:Events for cSPACE Eau Claire
REFRESH-INTERVAL;VALUE=DURATION:PT1H
X-Robots-Tag:noindex
X-PUBLISHED-TTL:PT1H
BEGIN:VTIMEZONE
TZID:UTC
BEGIN:STANDARD
TZOFFSETFROM:+0000
TZOFFSETTO:+0000
TZNAME:UTC
DTSTART:20220101T000000
END:STANDARD
END:VTIMEZONE
BEGIN:VEVENT
DTSTART;TZID=UTC:20230322T180000
DTEND;TZID=UTC:20230322T200000
DTSTAMP:20260420T130640
CREATED:20230301T213559Z
LAST-MODIFIED:20230301T213559Z
UID:12951-1679508000-1679515200@eau-claire.cspaceprojects.com
SUMMARY:Drop-In Collage Making Workshop
DESCRIPTION:Join Laureat Nkinzo for a casual night of collaging. Whether you are a first time collage maker\, or a seasoned artist\, this is a great space to socialise\, Laureat will share tips\, answer questions and guide first timers while providing input to hardened collage artists. \nFree admission.
URL:https://eau-claire.cspaceprojects.com/events/drop-in-collage-making-workshop/
LOCATION:cSPACE Eau Claire\, 381 2 Ave SW\, Calgary\, Alberta\, T2P 5E9\, Canada
CATEGORIES:Workshop
ATTACH;FMTTYPE=image/jpeg:https://eau-claire.cspaceprojects.com/wp-content/uploads/2023/03/alcove.jpg
END:VEVENT
END:VCALENDAR